BEGIN:VCALENDAR
VERSION:2.0
PRODID: -//Q4 Inc.//EN
METHOD:PUBLISH
BEGIN:VTIMEZONE
TZID:America/New_York
X-LIC-LOCATION:America/New_York
BEGIN:DAYLIGHT
TZOFFSETFROM:-0500
TZOFFSETTO:-0400
TZNAME:EDT
DTSTART:19700308T020000
RRULE:FREQ=YEARLY;BYMONTH=3;BYDAY=2SU
END:DAYLIGHT
BEGIN:STANDARD
TZOFFSETFROM:-0400
TZOFFSETTO:-0500
TZNAME:EST
DTSTART:19701101T020000
RRULE:FREQ=YEARLY;BYMONTH=11;BYDAY=1SU
END:STANDARD
END:VTIMEZONE
BEGIN:VEVENT
ORGANIZER:MAILTO:Investor.Mail@ADP.com
DTSTART;TZID="America/New_York":20231116T091000
DTEND;TZID="America/New_York":20231116T101000
LOCATION:
UID:8a2ff7b0-b62c-4a9d-84e3-3bf2b8835b72
DTSTAMP:20260424T203616
SUMMARY:J.P. Morgan Ultimate Services Investor Conference
DESCRIPTION: View More Information: https://investors.adp.com/events-and-presentations/event-details/2023/JP-Morgan-Ultimate-Services-Investor-Conference-2023-TDE_Rj-U3p/default.aspx
URL;VALUE=URI:https://investors.adp.com/events-and-presentations/event-details/2023/JP-Morgan-Ultimate-Services-Investor-Conference-2023-TDE_Rj-U3p/default.aspx
PRIORITY:5
CLASS:PUBLIC
END:VEVENT
END:VCALENDAR
