BEGIN:VCALENDAR
VERSION:2.0
PRODID: -//Q4 Inc.//EN
METHOD:PUBLISH
BEGIN:VTIMEZONE
TZID:America/New_York
X-LIC-LOCATION:America/New_York
BEGIN:DAYLIGHT
TZOFFSETFROM:-0500
TZOFFSETTO:-0400
TZNAME:EDT
DTSTART:19700308T020000
RRULE:FREQ=YEARLY;BYMONTH=3;BYDAY=2SU
END:DAYLIGHT
BEGIN:STANDARD
TZOFFSETFROM:-0400
TZOFFSETTO:-0500
TZNAME:EST
DTSTART:19701101T020000
RRULE:FREQ=YEARLY;BYMONTH=11;BYDAY=1SU
END:STANDARD
END:VTIMEZONE
BEGIN:VEVENT
ORGANIZER:MAILTO:Investor.Mail@ADP.com
DTSTART;TZID="America/New_York":20230531T083000
DTEND;TZID="America/New_York":20230531T093000
LOCATION:
UID:9d92b1ec-976e-4068-ad8d-e93e71a35932
DTSTAMP:20260424T205948
SUMMARY:TD Cowen Technology, Media & Telecom Conference
DESCRIPTION: View More Information: https://investors.adp.com/events-and-presentations/event-details/2023/TD-Cowen-Technology-Media--Telecom-Conference-2023-2-FUDaWm4o/default.aspx
URL;VALUE=URI:https://investors.adp.com/events-and-presentations/event-details/2023/TD-Cowen-Technology-Media--Telecom-Conference-2023-2-FUDaWm4o/default.aspx
PRIORITY:5
CLASS:PUBLIC
END:VEVENT
END:VCALENDAR
