BEGIN:VCALENDAR
VERSION:2.0
PRODID: -//Q4 Inc.//EN
METHOD:PUBLISH
BEGIN:VTIMEZONE
TZID:America/New_York
X-LIC-LOCATION:America/New_York
BEGIN:DAYLIGHT
TZOFFSETFROM:-0500
TZOFFSETTO:-0400
TZNAME:EDT
DTSTART:19700308T020000
RRULE:FREQ=YEARLY;BYMONTH=3;BYDAY=2SU
END:DAYLIGHT
BEGIN:STANDARD
TZOFFSETFROM:-0400
TZOFFSETTO:-0500
TZNAME:EST
DTSTART:19701101T020000
RRULE:FREQ=YEARLY;BYMONTH=11;BYDAY=1SU
END:STANDARD
END:VTIMEZONE
BEGIN:VEVENT
ORGANIZER:MAILTO:Investor.Mail@ADP.com
DTSTART;TZID="America/New_York":20220907T130000
DTEND;TZID="America/New_York":20220907T140000
LOCATION:
UID:7d1b07c1-100d-4c45-b81a-04c24f964619
DTSTAMP:20260424T205816
SUMMARY:Citi Technology Conference Fireside Chat
DESCRIPTION: View More Information: https://investors.adp.com/events-and-presentations/event-details/2022/Citi-Technology-Conference-Fireside-Chat/default.aspx
URL;VALUE=URI:https://investors.adp.com/events-and-presentations/event-details/2022/Citi-Technology-Conference-Fireside-Chat/default.aspx
PRIORITY:5
CLASS:PUBLIC
END:VEVENT
END:VCALENDAR
