BEGIN:VCALENDAR
VERSION:2.0
PRODID: -//Q4 Inc.//EN
METHOD:PUBLISH
BEGIN:VTIMEZONE
TZID:America/New_York
X-LIC-LOCATION:America/New_York
BEGIN:DAYLIGHT
TZOFFSETFROM:-0500
TZOFFSETTO:-0400
TZNAME:EDT
DTSTART:19700308T020000
RRULE:FREQ=YEARLY;BYMONTH=3;BYDAY=2SU
END:DAYLIGHT
BEGIN:STANDARD
TZOFFSETFROM:-0400
TZOFFSETTO:-0500
TZNAME:EST
DTSTART:19701101T020000
RRULE:FREQ=YEARLY;BYMONTH=11;BYDAY=1SU
END:STANDARD
END:VTIMEZONE
BEGIN:VEVENT
ORGANIZER:MAILTO:Investor.Mail@ADP.com
DTSTART;TZID="America/New_York":20260429T083000
DTEND;TZID="America/New_York":20260429T093000
LOCATION:
UID:9a2d2e0e-a603-40ae-9c40-54dfb93b8f63
DTSTAMP:20260424T225904
SUMMARY:ADP to Announce Third Quarter Fiscal 2026 Financial Results on April 29, 2026
DESCRIPTION: View More Information: https://investors.adp.com/events-and-presentations/event-details/2026/ADP-Announces-Third-Quarter-Fiscal-2026-Financial-Results/default.aspx
URL;VALUE=URI:https://investors.adp.com/events-and-presentations/event-details/2026/ADP-Announces-Third-Quarter-Fiscal-2026-Financial-Results/default.aspx
PRIORITY:5
CLASS:PUBLIC
END:VEVENT
END:VCALENDAR
